BEGIN:VCALENDAR
VERSION:2.0
PRODID:-//OmniMagnetCalendar//EN
BEGIN:VEVENT
DTSTAMP:20190625T195740Z
STATUS:CONFIRMED
UID:hcjapan.clubs.harvard.edu641
DTSTART:20260325T090000Z
DTEND:20260325T120000Z
LOCATION:Two Rooms Nihonbashi , 2-5-1, Nihombashi, Chuo-ku, Tokyo, 103-6107, Japan,
SUMMARY:Global Networking Night
DESCRIPTION:Join fellow alumni worldwide at GNN!
BEGIN:VALARM
TRIGGER:-PT15M
ACTION:DISPLAY
END:VALARM
TRANSP:OPAQUE
END:VEVENT
END:VCALENDAR
