BEGIN:VCALENDAR
VERSION:2.0
PRODID:-//OmniMagnetCalendar//EN
BEGIN:VEVENT
DTSTAMP:20190625T195740Z
STATUS:CONFIRMED
UID:hcjapan.clubs.harvard.edu640
DTSTART:20260328T010000Z
DTEND:20260328T073000Z
LOCATION:Komaba Park, 4 Chome-3-55 Komaba, Meguro , Tokyo, 153-0041, Japan,
SUMMARY:March 28 Intercollegiate Family Hanami at Komaba Park
DESCRIPTION:
BEGIN:VALARM
TRIGGER:-PT15M
ACTION:DISPLAY
END:VALARM
TRANSP:OPAQUE
END:VEVENT
END:VCALENDAR
