BEGIN:VCALENDAR
VERSION:2.0
PRODID:-//OmniMagnetCalendar//EN
BEGIN:VEVENT
DTSTAMP:20190625T195740Z
STATUS:CONFIRMED
UID:hcjapan.clubs.harvard.edu637
DTSTART:20260326T100000Z
DTEND:20260326T120000Z
LOCATION:Taikan En (Chinese) 16th floor Hotel New Otani Main Building, Kioicho 4-1, Tokyo, Japan,
SUMMARY:Harvard Club of Japan Sports and Culture Series Dinner
DESCRIPTION:"Engineering Human Durability: What Elite Performance Science Reveals About Longevity and Health": A Dinner Discussion with Dr. Marcus Elliott of Harvard Medical School
BEGIN:VALARM
TRIGGER:-PT15M
ACTION:DISPLAY
END:VALARM
TRANSP:OPAQUE
END:VEVENT
END:VCALENDAR
