BEGIN:VCALENDAR
VERSION:2.0
PRODID:-//OmniMagnetCalendar//EN
BEGIN:VEVENT
DTSTAMP:20190625T195740Z
STATUS:CONFIRMED
UID:hcjapan.clubs.harvard.edu635
DTSTART:20260222T020000Z
DTEND:20260222T033000Z
LOCATION:Seibu Shinjuku Nakai Station’s South Exit (Meeting Place), 2 Chome-20-8 Kamiochiai, Shinjuku City, Tokyo,
SUMMARY:Some no Komichi Tour!
DESCRIPTION:Sign up for a family-friendly tour of Some no Komichi, led by our very own Bing Wang! Bing is an HGSE alum who has apprenticed at a dyeing studio, immersing herself in the craft firsthand.
BEGIN:VALARM
TRIGGER:-PT15M
ACTION:DISPLAY
END:VALARM
TRANSP:OPAQUE
END:VEVENT
END:VCALENDAR
