BEGIN:VCALENDAR
VERSION:2.0
PRODID:-//OmniMagnetCalendar//EN
BEGIN:VEVENT
DTSTAMP:20190625T195740Z
STATUS:CONFIRMED
UID:hcjapan.clubs.harvard.edu634
DTSTART:20260313T100000Z
DTEND:20260313T120000Z
LOCATION:Akasaka, Minato Ku, Tokyo,
SUMMARY:WAITING LIST AVAILABLE!  HDS Dean Frederick on Religious Media and the Politics of Change
DESCRIPTION:Drawing on Dean Marla F. Frederick’s ethnographic study of the influence of media on the practice of faith traditions—as well as Dr. Gina A. Zurlo’s demographic expertise—this discussion will explore the ways that religion is intertwined with  bro
BEGIN:VALARM
TRIGGER:-PT15M
ACTION:DISPLAY
END:VALARM
TRANSP:OPAQUE
END:VEVENT
END:VCALENDAR
